BEGIN:VCALENDAR
VERSION:2.0
PRODID:-//Gesangverein Freundschaft Völkersbach - ECPv6.15.20//NONSGML v1.0//EN
CALSCALE:GREGORIAN
METHOD:PUBLISH
X-WR-CALNAME:Gesangverein Freundschaft Völkersbach
X-ORIGINAL-URL:https://gesangverein-voelkersbach.de
X-WR-CALDESC:Veranstaltungen für Gesangverein Freundschaft Völkersbach
REFRESH-INTERVAL;VALUE=DURATION:PT1H
X-Robots-Tag:noindex
X-PUBLISHED-TTL:PT1H
BEGIN:VTIMEZONE
TZID:Europe/Berlin
BEGIN:DAYLIGHT
TZOFFSETFROM:+0100
TZOFFSETTO:+0200
TZNAME:CEST
DTSTART:20220327T010000
END:DAYLIGHT
BEGIN:STANDARD
TZOFFSETFROM:+0200
TZOFFSETTO:+0100
TZNAME:CET
DTSTART:20221030T010000
END:STANDARD
BEGIN:DAYLIGHT
TZOFFSETFROM:+0100
TZOFFSETTO:+0200
TZNAME:CEST
DTSTART:20230326T010000
END:DAYLIGHT
BEGIN:STANDARD
TZOFFSETFROM:+0200
TZOFFSETTO:+0100
TZNAME:CET
DTSTART:20231029T010000
END:STANDARD
BEGIN:DAYLIGHT
TZOFFSETFROM:+0100
TZOFFSETTO:+0200
TZNAME:CEST
DTSTART:20240331T010000
END:DAYLIGHT
BEGIN:STANDARD
TZOFFSETFROM:+0200
TZOFFSETTO:+0100
TZNAME:CET
DTSTART:20241027T010000
END:STANDARD
END:VTIMEZONE
BEGIN:VEVENT
DTSTART;TZID=Europe/Berlin:20230701T110000
DTEND;TZID=Europe/Berlin:20230701T170000
DTSTAMP:20260423T143542
CREATED:20230626T191212Z
LAST-MODIFIED:20230630T145249Z
UID:6650-1688209200-1688230800@gesangverein-voelkersbach.de
SUMMARY:Kinderfest am Klosterhof
DESCRIPTION:Sommer\, Sonne\, Kinderspaß \nZum 1. Kinderfest am Samstag\, den 1. Juli 2023 ab 11 h bis ca. 17 h lädt der Gesangverein Freundschaft Völkersbach alle Kinder und ihre Eltern sehr herzlich ein. \nIm und rund um den Klosterhof ist allerlei geboten\, was den Kindern Spaß macht und ihr Interesse weckt: \n11 h / 11:30 h / 14:30 h musikalische / tänzerische Beiträge\n15 h Kinderzaubervorstellung \nAb 11:30 h können sich die Kinder beim Fußball Spiel & Spaß vergnügen\, sich bei der Kinderolympiade messen oder die Fahrt im Karussell genießen. \nAußerdem wird ab 14 h Kinderschminken angeboten und in der Kreativen Ecke und beim Dreckseln dürfen die Kinder selbst Hand anlegen. \nFür das leibliche Wohl gibt es neben allerlei Getränken Pommes\, Wurst\, Flammkuchen und süßes Selbstgebackenes\, Zuckerwatte und Eis.
URL:https://gesangverein-voelkersbach.de/veranstaltung/kinderfest-am-klosterhof/
LOCATION:Klosterhof Völkersbach\, Schwarzwaldhochstraße 1\, Völkersbach\, Baden-Württemberg\, 76316\, Deutschland
END:VEVENT
BEGIN:VEVENT
DTSTART;TZID=Europe/Berlin:20230715T180000
DTEND;TZID=Europe/Berlin:20230715T235900
DTSTAMP:20260423T143542
CREATED:20230626T192323Z
LAST-MODIFIED:20230626T194704Z
UID:6655-1689444000-1689465540@gesangverein-voelkersbach.de
SUMMARY:Cocktails & Gesang
DESCRIPTION:Ein Sommerabend\, Sonne\, Chorsound und sagenhaft gute Cocktails. Der Gesangverein Freundschaft-Konkordia Malsch hat ein neues Event für die Malscher kreiert. Merkt euch den 15. Juli vor – eine Überraschung ist auch geplant. \n\n\nDer moderne Chor Change it übt voller Vorfreude und Spaß schon an dem Sound\, der den Sommerabend auf dem Malscher Kirchplatz abrunden soll. Bevor wir wieder Glühwein im Dezember ausschenken\, wollen wir gemeinsam mit den Menschen in Malsch einen wunderbaren Sommerabend feiern. \nWeitere Infos finden Sie unter https://www.gesangverein-malsch.de/sommer-event-cocktails-gesang-malsch-change-it
URL:https://gesangverein-voelkersbach.de/veranstaltung/cocktails-gesang/
LOCATION:Kirchplatz Malsch\, Am Kirchplatz\, Malsch\, Baden-Württemberg\, 76316\, Deutschland
END:VEVENT
END:VCALENDAR