BEGIN:VCALENDAR
VERSION:2.0
PRODID:-//Gesangverein Freundschaft Völkersbach - ECPv6.15.20//NONSGML v1.0//EN
CALSCALE:GREGORIAN
METHOD:PUBLISH
X-ORIGINAL-URL:https://gesangverein-voelkersbach.de
X-WR-CALDESC:Veranstaltungen für Gesangverein Freundschaft Völkersbach
REFRESH-INTERVAL;VALUE=DURATION:PT1H
X-Robots-Tag:noindex
X-PUBLISHED-TTL:PT1H
BEGIN:VTIMEZONE
TZID:UTC
BEGIN:STANDARD
TZOFFSETFROM:+0000
TZOFFSETTO:+0000
TZNAME:UTC
DTSTART:20210101T000000
END:STANDARD
END:VTIMEZONE
BEGIN:VEVENT
DTSTART;TZID=UTC:20221204T170000
DTEND;TZID=UTC:20221204T180000
DTSTAMP:20260424T014904
CREATED:20221004T152205Z
LAST-MODIFIED:20221004T152205Z
UID:4671-1670173200-1670176800@gesangverein-voelkersbach.de
SUMMARY:Adventliche Stunde
DESCRIPTION:Unter dem Titel „Wieder naht der heilige Stern“ lädt der Gesangverein am 4. Dezember 2022 um 17:00 h zu einer adventlichen Stunde mit Chorbeiträgen des Männer- und Mahlbergchors in die Pfarrkirche St. Georg und zu anschließendem Beisammensein mit Glühwein und Wurst im Pfarrgarten-/haus ein.
URL:https://gesangverein-voelkersbach.de/veranstaltung/adventliche-stunde/
LOCATION:St. Georg\, St.-Georg-Straße 2\, Malsch-Völkersbach\, 76316\, Deutschland
END:VEVENT
END:VCALENDAR