BEGIN:VCALENDAR
VERSION:2.0
PRODID:-//Gesangverein Freundschaft Völkersbach - ECPv6.15.20//NONSGML v1.0//EN
CALSCALE:GREGORIAN
METHOD:PUBLISH
X-WR-CALNAME:Gesangverein Freundschaft Völkersbach
X-ORIGINAL-URL:https://gesangverein-voelkersbach.de
X-WR-CALDESC:Veranstaltungen für Gesangverein Freundschaft Völkersbach
REFRESH-INTERVAL;VALUE=DURATION:PT1H
X-Robots-Tag:noindex
X-PUBLISHED-TTL:PT1H
BEGIN:VTIMEZONE
TZID:Europe/Berlin
BEGIN:DAYLIGHT
TZOFFSETFROM:+0100
TZOFFSETTO:+0200
TZNAME:CEST
DTSTART:20220327T010000
END:DAYLIGHT
BEGIN:STANDARD
TZOFFSETFROM:+0200
TZOFFSETTO:+0100
TZNAME:CET
DTSTART:20221030T010000
END:STANDARD
BEGIN:DAYLIGHT
TZOFFSETFROM:+0100
TZOFFSETTO:+0200
TZNAME:CEST
DTSTART:20230326T010000
END:DAYLIGHT
BEGIN:STANDARD
TZOFFSETFROM:+0200
TZOFFSETTO:+0100
TZNAME:CET
DTSTART:20231029T010000
END:STANDARD
BEGIN:DAYLIGHT
TZOFFSETFROM:+0100
TZOFFSETTO:+0200
TZNAME:CEST
DTSTART:20240331T010000
END:DAYLIGHT
BEGIN:STANDARD
TZOFFSETFROM:+0200
TZOFFSETTO:+0100
TZNAME:CET
DTSTART:20241027T010000
END:STANDARD
END:VTIMEZONE
BEGIN:VEVENT
DTSTART;VALUE=DATE:20230916
DTEND;VALUE=DATE:20230917
DTSTAMP:20260423T131128
CREATED:20230829T220556Z
LAST-MODIFIED:20230829T220556Z
UID:7173-1694822400-1694908799@gesangverein-voelkersbach.de
SUMMARY:Auftritt Schlachtfest Germania Spessart
DESCRIPTION:
URL:https://gesangverein-voelkersbach.de/veranstaltung/auftritt-schlachtfest-germania-spessart/
LOCATION:Vereinsheim Germania Spessart e.V.\, Kirchstrasse\, Spessart\, 76275
END:VEVENT
END:VCALENDAR