BEGIN:VCALENDAR
VERSION:2.0
PRODID:-//Gesangverein Freundschaft Völkersbach - ECPv6.15.20//NONSGML v1.0//EN
CALSCALE:GREGORIAN
METHOD:PUBLISH
X-ORIGINAL-URL:https://gesangverein-voelkersbach.de
X-WR-CALDESC:Veranstaltungen für Gesangverein Freundschaft Völkersbach
REFRESH-INTERVAL;VALUE=DURATION:PT1H
X-Robots-Tag:noindex
X-PUBLISHED-TTL:PT1H
BEGIN:VTIMEZONE
TZID:UTC
BEGIN:STANDARD
TZOFFSETFROM:+0000
TZOFFSETTO:+0000
TZNAME:UTC
DTSTART:20210101T000000
END:STANDARD
END:VTIMEZONE
BEGIN:VEVENT
DTSTART;TZID=UTC:20221105T180000
DTEND;TZID=UTC:20221105T233000
DTSTAMP:20260424T050157
CREATED:20221004T151824Z
LAST-MODIFIED:20230412T143833Z
UID:4669-1667671200-1667691000@gesangverein-voelkersbach.de
SUMMARY:Sängerfest
DESCRIPTION:Wieder Vorhang auf beim Gesangverein Völkersbach\nDie Anhänger des Theater-Herbstes müssen leider auch in diesem Jahr noch auf die Fortsetzung\ndieser beliebten Veranstaltungsreihe verzichten. Dennoch wird sich am Samstag\, 5. November ab\n18:00h\, wieder die Bühne im Klosterhofsaal füllen\, dann zu einem Sängerfest. \nZum 10-jährigen erfolgreichen Wirkens unseres Chorleiters Aldo Martinez bei der Freundschaft\npräsentiert der Gesangverein dessen andere Chöre zu einem Freundschaftssingen und lädt dazu die\nBevölkerung bei freiem Eintritt sehr herzlich ein. Die Männerchöre und modernen Chorformationen\naus Friedrichstal\, Hochstetten\, Spöck und Völkersbach bieten einen abwechslungsreichen Abend des\nChorgesangs und die von den Theaterabenden bekannt gute Küche Essen und Trinken vom Feinsten\,\nKaffee\, sowie eine große Auswahl an selbstgebackenen Kuchen an.
URL:https://gesangverein-voelkersbach.de/veranstaltung/saengerfest/
LOCATION:Klosterhof Völkersbach\, Schwarzwaldhochstraße 1\, Völkersbach\, Baden-Württemberg\, 76316\, Deutschland
CATEGORIES:Konzert
END:VEVENT
END:VCALENDAR