BEGIN:VCALENDAR
VERSION:2.0
PRODID:-//Gesangverein Freundschaft Völkersbach - ECPv6.15.20//NONSGML v1.0//EN
CALSCALE:GREGORIAN
METHOD:PUBLISH
X-WR-CALNAME:Gesangverein Freundschaft Völkersbach
X-ORIGINAL-URL:https://gesangverein-voelkersbach.de
X-WR-CALDESC:Veranstaltungen für Gesangverein Freundschaft Völkersbach
REFRESH-INTERVAL;VALUE=DURATION:PT1H
X-Robots-Tag:noindex
X-PUBLISHED-TTL:PT1H
BEGIN:VTIMEZONE
TZID:UTC
BEGIN:STANDARD
TZOFFSETFROM:+0000
TZOFFSETTO:+0000
TZNAME:UTC
DTSTART:20210101T000000
END:STANDARD
END:VTIMEZONE
BEGIN:VEVENT
DTSTART;TZID=UTC:20221012T183000
DTEND;TZID=UTC:20221012T193000
DTSTAMP:20260424T065621
CREATED:20221004T152607Z
LAST-MODIFIED:20221004T152607Z
UID:4674-1665599400-1665603000@gesangverein-voelkersbach.de
SUMMARY:Mitgestaltung des Gottesdienstes
DESCRIPTION:Am 12. Oktober 2022\, 18:30 h\, umrahmt der Männerchor den Gottesdienst in der Pfarrkirche St. Georg zum Gedenken an seine verstorbenen Mitglieder.
URL:https://gesangverein-voelkersbach.de/veranstaltung/mitgestaltung-des-gottesdienstes/
LOCATION:St. Georg\, St.-Georg-Straße 2\, Malsch-Völkersbach\, 76316\, Deutschland
END:VEVENT
END:VCALENDAR