BEGIN:VCALENDAR
VERSION:2.0
PRODID:-//Gesangverein Freundschaft Völkersbach - ECPv6.15.20//NONSGML v1.0//EN
CALSCALE:GREGORIAN
METHOD:PUBLISH
X-ORIGINAL-URL:https://gesangverein-voelkersbach.de
X-WR-CALDESC:Veranstaltungen für Gesangverein Freundschaft Völkersbach
REFRESH-INTERVAL;VALUE=DURATION:PT1H
X-Robots-Tag:noindex
X-PUBLISHED-TTL:PT1H
BEGIN:VTIMEZONE
TZID:UTC
BEGIN:STANDARD
TZOFFSETFROM:+0000
TZOFFSETTO:+0000
TZNAME:UTC
DTSTART:20210101T000000
END:STANDARD
END:VTIMEZONE
BEGIN:VEVENT
DTSTART;TZID=UTC:20220918T110000
DTEND;TZID=UTC:20220918T120000
DTSTAMP:20260424T083528
CREATED:20220823T200645Z
LAST-MODIFIED:20220823T200645Z
UID:4423-1663498800-1663502400@gesangverein-voelkersbach.de
SUMMARY:Auftritt beim Schlachtfest der Germania Spessart (Männerchor und Mahlbergchor)
DESCRIPTION:
URL:https://gesangverein-voelkersbach.de/veranstaltung/auftritt-beim-schlachtfest-der-germania-spessart-maennerchor-und-mahlbergchor/
LOCATION:Vereinsheim Germania Spessart e.V.\, Kirchstrasse\, Spessart\, 76275
END:VEVENT
END:VCALENDAR